BEGIN:VCALENDAR
VERSION:2.0
PRODID:-//Faith Ministries - ECPv6.15.20//NONSGML v1.0//EN
CALSCALE:GREGORIAN
METHOD:PUBLISH
X-ORIGINAL-URL:https://faithministries.us
X-WR-CALDESC:Events for Faith Ministries
REFRESH-INTERVAL;VALUE=DURATION:PT1H
X-Robots-Tag:noindex
X-PUBLISHED-TTL:PT1H
BEGIN:VTIMEZONE
TZID:America/Indiana/Indianapolis
BEGIN:DAYLIGHT
TZOFFSETFROM:-0500
TZOFFSETTO:-0400
TZNAME:EDT
DTSTART:20240310T070000
END:DAYLIGHT
BEGIN:STANDARD
TZOFFSETFROM:-0400
TZOFFSETTO:-0500
TZNAME:EST
DTSTART:20241103T060000
END:STANDARD
BEGIN:DAYLIGHT
TZOFFSETFROM:-0500
TZOFFSETTO:-0400
TZNAME:EDT
DTSTART:20250309T070000
END:DAYLIGHT
BEGIN:STANDARD
TZOFFSETFROM:-0400
TZOFFSETTO:-0500
TZNAME:EST
DTSTART:20251102T060000
END:STANDARD
BEGIN:DAYLIGHT
TZOFFSETFROM:-0500
TZOFFSETTO:-0400
TZNAME:EDT
DTSTART:20260308T070000
END:DAYLIGHT
BEGIN:STANDARD
TZOFFSETFROM:-0400
TZOFFSETTO:-0500
TZNAME:EST
DTSTART:20261101T060000
END:STANDARD
BEGIN:DAYLIGHT
TZOFFSETFROM:-0500
TZOFFSETTO:-0400
TZNAME:EDT
DTSTART:20270314T070000
END:DAYLIGHT
BEGIN:STANDARD
TZOFFSETFROM:-0400
TZOFFSETTO:-0500
TZNAME:EST
DTSTART:20271107T060000
END:STANDARD
END:VTIMEZONE
BEGIN:VEVENT
DTSTART;TZID=America/Indiana/Indianapolis:20251118T170000
DTEND;TZID=America/Indiana/Indianapolis:20251118T190000
DTSTAMP:20260424T232813
CREATED:20251104T180820Z
LAST-MODIFIED:20251104T180820Z
UID:10000037-1763485200-1763492400@faithministries.us
SUMMARY:Tuesday Night Prayer
DESCRIPTION:We invite everyone to join us for a Face-to-Face Prayer Session — a time of worship\, reflection\, and united prayer.Let’s come together in faith and fellowship as we lift our hearts before God. \n📅 Date: Tuesday’s🕒 Time: 5:00PM📍 Venue: Faith Ministries \nCome expecting to encounter God’s presence\, strengthen your faith\, and connect with others in prayer.All are welcome — bring your family and friends! 💒 \n\n“For where two or three gather in my name\, there am I with them.” — Matthew 18:20
URL:https://faithministries.us/event2/tuesday-night-prayer/2025-11-18/
LOCATION:Faith Ministries\, 5103 Jonathan Moore Pike\, Columbus\, IN\, 47201\, United States
END:VEVENT
BEGIN:VEVENT
DTSTART;TZID=America/Indiana/Indianapolis:20251113T180000
DTEND;TZID=America/Indiana/Indianapolis:20251113T191500
DTSTAMP:20260424T232813
CREATED:20251104T182720Z
LAST-MODIFIED:20251104T182720Z
UID:10000297-1763056800-1763061300@faithministries.us
SUMMARY:Spiritual Guidance Study
DESCRIPTION:📖 Spiritual Guidance\nJoin Us In Person or on Zoom! \nYou’re invited to a time of reflection\, learning\, and fellowship as we gather for our Spiritual Guidance Study. Together\, we’ll explore how God leads us through His Word and Spirit in our daily lives. \n📅 Date: Thursday’s🕒 Time: 6:00PM-7:15PM📍 Venue (Face-to-Face): Faith Ministries💻 Zoom Meeting ID: https://us02web.zoom.us/j/85961275666 🔑 Passcode: 859 6127 5666 \nBooks: \n\nDouglas Connelly: John 1-12 and Anthony De Mello: Awareness\nAMAZON Purchase Links: https://a.co/d/9b24FeB and https://a.co/d/fYux98w\n\nWhether you join us in person or online\, let’s grow together in faith and understanding of God’s direction for our lives. \n\n“Trust in the Lord with all your heart and lean not on your own understanding;in all your ways submit to Him\, and He will make your paths straight.” — Proverbs 3:5–6 \n\nAll are welcome — bring your Bible\, an open heart\, and a friend! 🙏
URL:https://faithministries.us/event2/spiritual-guidance-study/2025-11-13/
LOCATION:Faith Ministries\, 5103 Jonathan Moore Pike\, Columbus\, IN\, 47201\, United States
END:VEVENT
BEGIN:VEVENT
DTSTART;TZID=America/Indiana/Indianapolis:20251111T170000
DTEND;TZID=America/Indiana/Indianapolis:20251111T190000
DTSTAMP:20260424T232813
CREATED:20251104T180820Z
LAST-MODIFIED:20251104T180820Z
UID:10000036-1762880400-1762887600@faithministries.us
SUMMARY:Tuesday Night Prayer
DESCRIPTION:We invite everyone to join us for a Face-to-Face Prayer Session — a time of worship\, reflection\, and united prayer.Let’s come together in faith and fellowship as we lift our hearts before God. \n📅 Date: Tuesday’s🕒 Time: 5:00PM📍 Venue: Faith Ministries \nCome expecting to encounter God’s presence\, strengthen your faith\, and connect with others in prayer.All are welcome — bring your family and friends! 💒 \n\n“For where two or three gather in my name\, there am I with them.” — Matthew 18:20
URL:https://faithministries.us/event2/tuesday-night-prayer/2025-11-11/
LOCATION:Faith Ministries\, 5103 Jonathan Moore Pike\, Columbus\, IN\, 47201\, United States
END:VEVENT
BEGIN:VEVENT
DTSTART;TZID=America/Indiana/Indianapolis:20251106T180000
DTEND;TZID=America/Indiana/Indianapolis:20251106T191500
DTSTAMP:20260424T232813
CREATED:20251104T182720Z
LAST-MODIFIED:20251104T182720Z
UID:10000296-1762452000-1762456500@faithministries.us
SUMMARY:Spiritual Guidance Study
DESCRIPTION:📖 Spiritual Guidance\nJoin Us In Person or on Zoom! \nYou’re invited to a time of reflection\, learning\, and fellowship as we gather for our Spiritual Guidance Study. Together\, we’ll explore how God leads us through His Word and Spirit in our daily lives. \n📅 Date: Thursday’s🕒 Time: 6:00PM-7:15PM📍 Venue (Face-to-Face): Faith Ministries💻 Zoom Meeting ID: https://us02web.zoom.us/j/85961275666 🔑 Passcode: 859 6127 5666 \nBooks: \n\nDouglas Connelly: John 1-12 and Anthony De Mello: Awareness\nAMAZON Purchase Links: https://a.co/d/9b24FeB and https://a.co/d/fYux98w\n\nWhether you join us in person or online\, let’s grow together in faith and understanding of God’s direction for our lives. \n\n“Trust in the Lord with all your heart and lean not on your own understanding;in all your ways submit to Him\, and He will make your paths straight.” — Proverbs 3:5–6 \n\nAll are welcome — bring your Bible\, an open heart\, and a friend! 🙏
URL:https://faithministries.us/event2/spiritual-guidance-study/2025-11-06/
LOCATION:Faith Ministries\, 5103 Jonathan Moore Pike\, Columbus\, IN\, 47201\, United States
END:VEVENT
BEGIN:VEVENT
DTSTART;TZID=America/Indiana/Indianapolis:20251104T170000
DTEND;TZID=America/Indiana/Indianapolis:20251104T190000
DTSTAMP:20260424T232813
CREATED:20251104T180820Z
LAST-MODIFIED:20251104T180820Z
UID:10000035-1762275600-1762282800@faithministries.us
SUMMARY:Tuesday Night Prayer
DESCRIPTION:We invite everyone to join us for a Face-to-Face Prayer Session — a time of worship\, reflection\, and united prayer.Let’s come together in faith and fellowship as we lift our hearts before God. \n📅 Date: Tuesday’s🕒 Time: 5:00PM📍 Venue: Faith Ministries \nCome expecting to encounter God’s presence\, strengthen your faith\, and connect with others in prayer.All are welcome — bring your family and friends! 💒 \n\n“For where two or three gather in my name\, there am I with them.” — Matthew 18:20
URL:https://faithministries.us/event2/tuesday-night-prayer/2025-11-04/
LOCATION:Faith Ministries\, 5103 Jonathan Moore Pike\, Columbus\, IN\, 47201\, United States
END:VEVENT
BEGIN:VEVENT
DTSTART;VALUE=DATE:20251104
DTEND;VALUE=DATE:20260102
DTSTAMP:20260424T232813
CREATED:20251104T183428Z
LAST-MODIFIED:20251104T183428Z
UID:10000305-1762214400-1767311999@faithministries.us
SUMMARY:🥫 Food Drive Donation
DESCRIPTION:🥫 Food Drive Donation – Share the Blessing!\nLet’s come together to make a difference! We are organizing a Food Drive Donation to help support families and individuals in need within our community. \nYour generous contributions will bring hope and nourishment to those facing difficult times. \n📍 Drop-off Location: email to set up date and time (faithministries5103@gmail.com) \nSample Items: \n\nSingle Serve Snack Crackers\nCan soup- (pop tops please)\nCan-Spaghetti o’s\,\nTuna Pouch\nPop Tarts\nCan-Ravioli\, Beefaroni (pop tops please)\nDinty Moore Stew-(pop tops please) Crackers\nJuice boxes/Capri Sun
URL:https://faithministries.us/event2/%f0%9f%a5%ab-food-drive-donation/
LOCATION:Faith Ministries\, 5103 Jonathan Moore Pike\, Columbus\, IN\, 47201\, United States
END:VEVENT
BEGIN:VEVENT
DTSTART;TZID=America/Indiana/Indianapolis:20251101T090000
DTEND;TZID=America/Indiana/Indianapolis:20251101T100000
DTSTAMP:20260424T232813
CREATED:20251011T153342Z
LAST-MODIFIED:20251011T153342Z
UID:10000030-1761987600-1761991200@faithministries.us
SUMMARY:Community Yoga
DESCRIPTION:
URL:https://faithministries.us/event2/community-yoga/
LOCATION:Faith Ministries\, 5103 Jonathan Moore Pike\, Columbus\, IN\, 47201\, United States
END:VEVENT
BEGIN:VEVENT
DTSTART;TZID=America/Indiana/Indianapolis:20251026T094500
DTEND;TZID=America/Indiana/Indianapolis:20251026T130000
DTSTAMP:20260424T232813
CREATED:20251011T154708Z
LAST-MODIFIED:20251011T154708Z
UID:10000033-1761471900-1761483600@faithministries.us
SUMMARY:Art of Living Part 1\, Learn Sudarshan Kriya breathing
DESCRIPTION:  \nONLINE Session \nSudarshan Kriya\nSudarshan Kriya is a breathing technique and meditation practice developed by the Art of Living Foundation. It involves a series of rhythmic\, alternating breaths that are said to have numerous physical\, mental\, and emotional benefits.\nBenefits:\nStress reduction: Sudarshan Kriya is believed to help reduce stress and anxiety by calming the nervous system and promoting relaxation.\nImproved sleep: Studies have shown that Sudarshan Kriya can improve sleep quality by increasing deep sleep and reducing nighttime awakenings.\nEnhanced lung capacity: The breathing exercises in Sudarshan Kriya can help expand the lungs and improve breathing efficiency.\nIncreased energy levels: Practicing Sudarshan Kriya can boost energy levels and reduce fatigue.\nImproved mood: The rhythmic breathing and meditation aspects of Sudarshan Kriya are said to promote positive emotions and reduce depression.\nImmune system support: Some studies suggest that Sudarshan Kriya may help strengthen the immune system \n 
URL:https://faithministries.us/event2/art-of-living-part-1-learn-sudarshan-kriya-breathing-3/
LOCATION:IN
END:VEVENT
BEGIN:VEVENT
DTSTART;TZID=America/Indiana/Indianapolis:20251025T094500
DTEND;TZID=America/Indiana/Indianapolis:20251025T130000
DTSTAMP:20260424T232813
CREATED:20251011T154101Z
LAST-MODIFIED:20251011T154233Z
UID:10000031-1761385500-1761397200@faithministries.us
SUMMARY:Art OF Living Part 1: Learn Sudarshan Kriya breathing
DESCRIPTION:Sudarshan Kriya\nSudarshan Kriya is a breathing technique and meditation practice developed by the Art of Living Foundation. It involves a series of rhythmic\, alternating breaths that are said to have numerous physical\, mental\, and emotional benefits.\nBenefits:\nStress reduction: Sudarshan Kriya is believed to help reduce stress and anxiety by calming the nervous system and promoting relaxation.\nImproved sleep: Studies have shown that Sudarshan Kriya can improve sleep quality by increasing deep sleep and reducing nighttime awakenings.\nEnhanced lung capacity: The breathing exercises in Sudarshan Kriya can help expand the lungs and improve breathing efficiency.\nIncreased energy levels: Practicing Sudarshan Kriya can boost energy levels and reduce fatigue.\nImproved mood: The rhythmic breathing and meditation aspects of Sudarshan Kriya are said to promote positive emotions and reduce depression.\nImmune system support: Some studies suggest that Sudarshan Kriya may help strengthen the immune system
URL:https://faithministries.us/event2/art-of-living-part-1-learn-sudarshan-kriya-breathing/
LOCATION:Faith Ministries\, 5103 Jonathan Moore Pike\, Columbus\, IN\, 47201\, United States
END:VEVENT
BEGIN:VEVENT
DTSTART;TZID=America/Indiana/Indianapolis:20251024T183000
DTEND;TZID=America/Indiana/Indianapolis:20251024T210000
DTSTAMP:20260424T232813
CREATED:20251011T154359Z
LAST-MODIFIED:20251011T154359Z
UID:10000032-1761330600-1761339600@faithministries.us
SUMMARY:Art of Living Part 1: Learn Sudarshan Kriya breathing
DESCRIPTION:Sudarshan Kriya\nSudarshan Kriya is a breathing technique and meditation practice developed by the Art of Living Foundation. It involves a series of rhythmic\, alternating breaths that are said to have numerous physical\, mental\, and emotional benefits.\nBenefits:\nStress reduction: Sudarshan Kriya is believed to help reduce stress and anxiety by calming the nervous system and promoting relaxation.\nImproved sleep: Studies have shown that Sudarshan Kriya can improve sleep quality by increasing deep sleep and reducing nighttime awakenings.\nEnhanced lung capacity: The breathing exercises in Sudarshan Kriya can help expand the lungs and improve breathing efficiency.\nIncreased energy levels: Practicing Sudarshan Kriya can boost energy levels and reduce fatigue.\nImproved mood: The rhythmic breathing and meditation aspects of Sudarshan Kriya are said to promote positive emotions and reduce depression.\nImmune system support: Some studies suggest that Sudarshan Kriya may help strengthen the immune system
URL:https://faithministries.us/event2/art-of-living-part-1-learn-sudarshan-kriya-breathing-2/
LOCATION:Faith Ministries\, 5103 Jonathan Moore Pike\, Columbus\, IN\, 47201\, United States
END:VEVENT
BEGIN:VEVENT
DTSTART;TZID=America/Indiana/Indianapolis:20251018T100000
DTEND;TZID=America/Indiana/Indianapolis:20251018T120000
DTSTAMP:20260424T232813
CREATED:20251011T152939Z
LAST-MODIFIED:20251011T152939Z
UID:10000029-1760781600-1760788800@faithministries.us
SUMMARY:Faith Ministries: Brotherhood Men's Breakfast
DESCRIPTION:
URL:https://faithministries.us/event2/faith-ministries-brotherhood-mens-breakfast/
LOCATION:Faith Ministries\, 5103 Jonathan Moore Pike\, Columbus\, IN\, 47201\, United States
END:VEVENT
BEGIN:VEVENT
DTSTART;TZID=America/Indiana/Indianapolis:20251011T120000
DTEND;TZID=America/Indiana/Indianapolis:20251231T143000
DTSTAMP:20260424T232813
CREATED:20250528T013112Z
LAST-MODIFIED:20251011T160612Z
UID:10000001-1760184000-1767191400@faithministries.us
SUMMARY:Food Drive
DESCRIPTION:Join us for the community food drive
URL:https://faithministries.us/event2/food-drive/
LOCATION:Faith Ministries\, 5103 Jonathan Moore Pike\, Columbus\, IN\, 47201\, United States
ATTACH;FMTTYPE=image/jpeg:https://faithministries.us/wp-content/uploads/2025/05/Food-Drive-1-Made-with-PosterMyWall-3-1.jpg
ORGANIZER;CN="Deshea":MAILTO:FaithMinistres5103@gmail.com
END:VEVENT
BEGIN:VEVENT
DTSTART;TZID=America/Indiana/Indianapolis:20250916T160000
DTEND;TZID=America/Indiana/Indianapolis:20250916T180000
DTSTAMP:20260424T232813
CREATED:20250911T163104Z
LAST-MODIFIED:20250911T163104Z
UID:10000028-1758038400-1758045600@faithministries.us
SUMMARY:Listening engagement sponsored by CRH
DESCRIPTION:
URL:https://faithministries.us/event2/listening-engagement-sponsored-by-crh/
LOCATION:Faith Ministries\, 5103 Jonathan Moore Pike\, Columbus\, IN\, 47201\, United States
END:VEVENT
BEGIN:VEVENT
DTSTART;VALUE=DATE:20250914
DTEND;VALUE=DATE:20250915
DTSTAMP:20260424T232813
CREATED:20250807T190937Z
LAST-MODIFIED:20250911T163038Z
UID:10000026-1757808000-1757894399@faithministries.us
SUMMARY:Faith Ministries 25th Anniversary
DESCRIPTION:We invite you to celebrate 25 years of ministry with us!
URL:https://faithministries.us/event2/faith-ministries-25th-anniversary/
LOCATION:Faith Ministries\, 5103 Jonathan Moore Pike\, Columbus\, IN\, 47201\, United States
ATTACH;FMTTYPE=image/jpeg:https://faithministries.us/wp-content/uploads/2025/08/church-anniversary-flyer-template-1-Made-with-PosterMyWall-1.jpg
END:VEVENT
BEGIN:VEVENT
DTSTART;TZID=America/Indiana/Indianapolis:20250912T180000
DTEND;TZID=America/Indiana/Indianapolis:20250912T200000
DTSTAMP:20260424T232813
CREATED:20250911T160903Z
LAST-MODIFIED:20250911T160903Z
UID:10000027-1757700000-1757707200@faithministries.us
SUMMARY:Tic Toc String Quartet featuring IU Jacobs School of Music
DESCRIPTION:
URL:https://faithministries.us/event2/tic-toc-string-quartet-featuring-iu-jacobs-school-of-music/
LOCATION:IN
END:VEVENT
BEGIN:VEVENT
DTSTART;TZID=America/Indiana/Indianapolis:20250809T100000
DTEND;TZID=America/Indiana/Indianapolis:20250809T120000
DTSTAMP:20260424T232813
CREATED:20250807T185849Z
LAST-MODIFIED:20250807T185849Z
UID:10000002-1754733600-1754740800@faithministries.us
SUMMARY:Men's Breakfast
DESCRIPTION:We’d love to have you join us for our next Men’s Prayer Breakfast! It’s a time to build each other up\, pray for one another\, and grow in our relationship with God.
URL:https://faithministries.us/event2/mens-breakfast/
LOCATION:IN
ATTACH;FMTTYPE=image/jpeg:https://faithministries.us/wp-content/uploads/2025/08/Church-Mens-Breakfast-AUG.jpg
END:VEVENT
END:VCALENDAR